BEGIN:VCALENDAR
VERSION:2.0
PRODID:-//hacksw/handcal//NONSGML v1.0//EN
BEGIN:VEVENT
SUMMARY:Demi Finale PSG-Bayern
UID:14c7c55c-2456-49d8-83cc-b4d1b2003998
DTSTART:20260428T163000Z
DTEND:20260428T213000Z
LOCATION:Localisation   
CATEGORIES:Manifestation
STATUS:
URL;VALUE=URI:https://fcveterans.sportsregions.fr/evenements/2026/04/28/demi-finale-psg-bayern-2442683
END:VEVENT
END:VCALENDAR
