BEGIN:VCALENDAR
VERSION:2.0
PRODID:-//hacksw/handcal//NONSGML v1.0//EN
BEGIN:VEVENT
SUMMARY:Match Lisle sur Tarn / FCV
UID:d80a53bb-d38e-4ab9-b995-7c22999c485a
DTSTART:20260320T193000Z
DTEND:20260320T230000Z
LOCATION:Localisation   
CATEGORIES:Sportif
STATUS:
URL;VALUE=URI:https://fcveterans.sportsregions.fr/evenements/2026/03/20/match-lisle-sur-tarn-fcv-2366760
END:VEVENT
END:VCALENDAR
